BEGIN:VCALENDAR
VERSION:2.0
PRODID:-//hacksw/handcal//NONSGML v1.0//EN
BEGIN:VEVENT
SUMMARY:Stage a GAP
UID:2f1fdbcc-8878-4909-8cc3-d7e7bd4041be
DTSTART:20260410T220000Z
DTEND:20260415T220000Z
LOCATION:Localisation   
CATEGORIES:Sportif
STATUS:
URL;VALUE=URI:https://www.efathle.com/evenements/2026/04/11/stage-a-gap-2441490
END:VEVENT
END:VCALENDAR
