BEGIN:VCALENDAR
VERSION:2.0
PRODID:-//hacksw/handcal//NONSGML v1.0//EN
BEGIN:VEVENT
SUMMARY:Pointes d'or BE/MI a Bonneville
UID:d5638734-5817-42c7-b2ab-5b72d33ae0b2
DTSTART:20260418T220000Z
DTEND:20260419T220000Z
LOCATION:Localisation   
CATEGORIES:Sportif
STATUS:
URL;VALUE=URI:https://www.efathle.com/evenements/2026/04/19/pointes-dor-bemi-a-bonneville-2441491
END:VEVENT
END:VCALENDAR
