BEGIN:VCALENDAR
VERSION:2.0
PRODID:-//hacksw/handcal//NONSGML v1.0//EN
BEGIN:VEVENT
SUMMARY:1er tour des interclubs CJES a Aix-Les-Bains
UID:43c1cc5f-c8cb-458c-86a7-b27b153daf9f
DTSTART:20260501T220000Z
DTEND:20260502T220000Z
LOCATION:Localisation   
CATEGORIES:Sportif
STATUS:
URL;VALUE=URI:https://www.efathle.com/evenements/2026/05/02/1er-tour-des-interclubs-cjes-a-aix-les-bains-2441496
END:VEVENT
END:VCALENDAR
