BEGIN:VCALENDAR
VERSION:2.0
PRODID:-//hacksw/handcal//NONSGML v1.0//EN
BEGIN:VEVENT
SUMMARY:Championnat de France de courses en montagne
UID:8c452f97-22ae-4d6d-a847-28e90490ff67
DTSTART:20260502T220000Z
DTEND:20260503T220000Z
LOCATION:Localisation   
CATEGORIES:Sportif
STATUS:
URL;VALUE=URI:https://www.efathle.com/evenements/2026/05/03/championnat-de-france-de-courses-en-montagne-2441512
END:VEVENT
END:VCALENDAR
