BEGIN:VCALENDAR
VERSION:2.0
PRODID:-//hacksw/handcal//NONSGML v1.0//EN
BEGIN:VEVENT
SUMMARY:Marathon du Clair de Lune
UID:9bf5c2e3-f4ef-418a-95d4-afe72aa7953d
DTSTART:20260508T220000Z
DTEND:20260509T220000Z
LOCATION:Localisation   
CATEGORIES:Sportif
STATUS:
URL;VALUE=URI:https://www.efathle.com/evenements/2026/05/09/marathon-du-clair-de-lune-2441497
END:VEVENT
END:VCALENDAR
