BEGIN:VCALENDAR
VERSION:2.0
PRODID:-//hacksw/handcal//NONSGML v1.0//EN
BEGIN:VEVENT
SUMMARY:Championnat 73 BE/MI a Evian-Les-Bains
UID:839da676-97cd-4796-9b22-02a9a0bd68dd
DTSTART:20260509T220000Z
DTEND:20260510T220000Z
LOCATION:Localisation   
CATEGORIES:Sportif
STATUS:
URL;VALUE=URI:https://www.efathle.com/evenements/2026/05/10/championnat-73-bemi-a-evian-les-bains-2441498
END:VEVENT
END:VCALENDAR
