BEGIN:VCALENDAR
VERSION:2.0
PRODID:-//hacksw/handcal//NONSGML v1.0//EN
BEGIN:VEVENT
SUMMARY:2eme tour des Interclubs
UID:40f9b06a-7dc0-4172-9a1d-a6938d970f20
DTSTART:20260515T220000Z
DTEND:20260516T220000Z
LOCATION:Localisation   
CATEGORIES:Sportif
STATUS:
URL;VALUE=URI:https://www.efathle.com/evenements/2026/05/16/2eme-tour-des-interclubs-2441501
END:VEVENT
END:VCALENDAR
