BEGIN:VCALENDAR
VERSION:2.0
PRODID:-//hacksw/handcal//NONSGML v1.0//EN
BEGIN:VEVENT
SUMMARY:Championnat 73/74 CJES a Thonon-Les-Bains
UID:3a25ce9f-5a68-480c-9e37-667c566ad5c2
DTSTART:20260523T220000Z
DTEND:20260524T220000Z
LOCATION:Localisation   
CATEGORIES:Sportif
STATUS:
URL;VALUE=URI:https://www.efathle.com/evenements/2026/05/24/championnat-7374-cjes-a-thonon-les-bains-2441502
END:VEVENT
END:VCALENDAR
