BEGIN:VCALENDAR
VERSION:2.0
PRODID:-//hacksw/handcal//NONSGML v1.0//EN
BEGIN:VEVENT
SUMMARY:Finale regionale Challenge Equipe Athle a Lyon
UID:c66c3669-3bb6-47ca-8661-b643c76aaf41
DTSTART:20260530T220000Z
DTEND:20260531T220000Z
LOCATION:Localisation   
CATEGORIES:Sportif
STATUS:
URL;VALUE=URI:https://www.efathle.com/evenements/2026/05/31/finale-regionale-challenge-equipe-athle-a-lyon-2441503
END:VEVENT
END:VCALENDAR
