BEGIN:VCALENDAR
VERSION:2.0
PRODID:-//hacksw/handcal//NONSGML v1.0//EN
BEGIN:VEVENT
SUMMARY:Championnat regional MI a Pontcharra
UID:bc5f7b04-cac8-4195-94ef-6818e5f12921
DTSTART:20260612T220000Z
DTEND:20260613T220000Z
LOCATION:Localisation   
CATEGORIES:Sportif
STATUS:
URL;VALUE=URI:https://www.efathle.com/evenements/2026/06/13/championnat-regional-mi-a-pontcharra-2441504
END:VEVENT
END:VCALENDAR
