BEGIN:VCALENDAR
VERSION:2.0
PRODID:-//hacksw/handcal//NONSGML v1.0//EN
BEGIN:VEVENT
SUMMARY:Championnat des Alpes CJES a Grenoble
UID:6523cb67-5d96-44d4-84bb-43a03fc1d081
DTSTART:20260613T220000Z
DTEND:20260614T220000Z
LOCATION:Localisation   
CATEGORIES:Sportif
STATUS:
URL;VALUE=URI:https://www.efathle.com/evenements/2026/06/14/championnat-des-alpes-cjes-a-grenoble-2441507
END:VEVENT
END:VCALENDAR
