BEGIN:VCALENDAR
VERSION:2.0
PRODID:-//hacksw/handcal//NONSGML v1.0//EN
BEGIN:VEVENT
SUMMARY:Meeting EAP BE/MI/CJES a Annecy
UID:9a72498c-9925-42fd-9750-4839d58e4cea
DTSTART:20260619T220000Z
DTEND:20260620T220000Z
LOCATION:Localisation   
CATEGORIES:Sportif
STATUS:
URL;VALUE=URI:https://www.efathle.com/evenements/2026/06/20/meeting-eap-bemicjes-a-annecy-2441508
END:VEVENT
END:VCALENDAR
