BEGIN:VCALENDAR
VERSION:2.0
PRODID:-//hacksw/handcal//NONSGML v1.0//EN
BEGIN:VEVENT
SUMMARY:Finale AURA des pointes de couleurs BE/MI a Grenoble
UID:813a7741-9133-4182-91b2-3e7ba33bf8c7
DTSTART:20260620T220000Z
DTEND:20260621T220000Z
LOCATION:Localisation   
CATEGORIES:Sportif
STATUS:
URL;VALUE=URI:https://www.efathle.com/evenements/2026/06/21/finale-aura-des-pointes-de-couleurs-bemi-a-grenoble-2441509
END:VEVENT
END:VCALENDAR
