BEGIN:VCALENDAR
VERSION:2.0
PRODID:-//hacksw/handcal//NONSGML v1.0//EN
BEGIN:VEVENT
SUMMARY:Championnat regional CJES a Lyon
UID:425700f8-70d4-4da0-b51e-6df694bcb803
DTSTART:20260626T220000Z
DTEND:20260628T220000Z
LOCATION:Localisation   
CATEGORIES:Sportif
STATUS:
URL;VALUE=URI:https://www.efathle.com/evenements/2026/06/27/championnat-regional-cjes-a-lyon-2441510
END:VEVENT
END:VCALENDAR
