BEGIN:VCALENDAR
VERSION:2.0
PRODID:-//hacksw/handcal//NONSGML v1.0//EN
BEGIN:VEVENT
SUMMARY:Championnat de France Avenir
UID:e6b159dc-ff4b-4a22-98cb-5e9affaba0cb
DTSTART:20260716T220000Z
DTEND:20260719T220000Z
LOCATION:Localisation   
CATEGORIES:Sportif
STATUS:
URL;VALUE=URI:https://www.efathle.com/evenements/2026/07/17/championnat-de-france-avenir-2441511
END:VEVENT
END:VCALENDAR
